BEGIN:VCALENDAR
VERSION:2.0
PRODID:-//La Leche League of Mountain Plains - ECPv6.15.20//NONSGML v1.0//EN
CALSCALE:GREGORIAN
METHOD:PUBLISH
X-WR-CALNAME:La Leche League of Mountain Plains
X-ORIGINAL-URL:https://www.lllmp.org
X-WR-CALDESC:Events for La Leche League of Mountain Plains
REFRESH-INTERVAL;VALUE=DURATION:PT1H
X-Robots-Tag:noindex
X-PUBLISHED-TTL:PT1H
BEGIN:VTIMEZONE
TZID:America/Chicago
BEGIN:DAYLIGHT
TZOFFSETFROM:-0600
TZOFFSETTO:-0500
TZNAME:CDT
DTSTART:20290311T080000
END:DAYLIGHT
BEGIN:STANDARD
TZOFFSETFROM:-0500
TZOFFSETTO:-0600
TZNAME:CST
DTSTART:20291104T070000
END:STANDARD
BEGIN:DAYLIGHT
TZOFFSETFROM:-0600
TZOFFSETTO:-0500
TZNAME:CDT
DTSTART:20300310T080000
END:DAYLIGHT
BEGIN:STANDARD
TZOFFSETFROM:-0500
TZOFFSETTO:-0600
TZNAME:CST
DTSTART:20301103T070000
END:STANDARD
BEGIN:DAYLIGHT
TZOFFSETFROM:-0600
TZOFFSETTO:-0500
TZNAME:CDT
DTSTART:20310309T080000
END:DAYLIGHT
BEGIN:STANDARD
TZOFFSETFROM:-0500
TZOFFSETTO:-0600
TZNAME:CST
DTSTART:20311102T070000
END:STANDARD
BEGIN:DAYLIGHT
TZOFFSETFROM:-0600
TZOFFSETTO:-0500
TZNAME:CDT
DTSTART:20320314T080000
END:DAYLIGHT
BEGIN:STANDARD
TZOFFSETFROM:-0500
TZOFFSETTO:-0600
TZNAME:CST
DTSTART:20321107T070000
END:STANDARD
END:VTIMEZONE
BEGIN:VEVENT
DTSTART;TZID=America/Chicago:20300508T100000
DTEND;TZID=America/Chicago:20300508T110000
DTSTAMP:20260419T203424
CREATED:20240301T211552Z
LAST-MODIFIED:20240331T012249Z
UID:10002038-1904464800-1904468400@www.lllmp.org
SUMMARY:Western Plains: Monthly Series Meeting
DESCRIPTION:Please join us for our monthly in-person meetings.
URL:https://www.lllmp.org/event/western-plains-monthly-series-meeting/2030-05-08/
LOCATION:Hays Public Library\, 1205 Main St\, Hays\, KS\, 67601\, United States
CATEGORIES:In-Person,Kansas,Monthly Series Meeting,Western Plains
GEO:38.8717602;-99.2911629
X-APPLE-STRUCTURED-LOCATION;VALUE=URI;X-ADDRESS=Hays Public Library 1205 Main St Hays KS 67601 United States;X-APPLE-RADIUS=500;X-TITLE=1205 Main St:geo:-99.2911629,38.8717602
END:VEVENT
BEGIN:VEVENT
DTSTART;TZID=America/Chicago:20300612T100000
DTEND;TZID=America/Chicago:20300612T110000
DTSTAMP:20260419T203424
CREATED:20240301T211552Z
LAST-MODIFIED:20240331T012249Z
UID:10002039-1907488800-1907492400@www.lllmp.org
SUMMARY:Western Plains: Monthly Series Meeting
DESCRIPTION:Please join us for our monthly in-person meetings.
URL:https://www.lllmp.org/event/western-plains-monthly-series-meeting/2030-06-12/
LOCATION:Hays Public Library\, 1205 Main St\, Hays\, KS\, 67601\, United States
CATEGORIES:In-Person,Kansas,Monthly Series Meeting,Western Plains
GEO:38.8717602;-99.2911629
X-APPLE-STRUCTURED-LOCATION;VALUE=URI;X-ADDRESS=Hays Public Library 1205 Main St Hays KS 67601 United States;X-APPLE-RADIUS=500;X-TITLE=1205 Main St:geo:-99.2911629,38.8717602
END:VEVENT
BEGIN:VEVENT
DTSTART;TZID=America/Chicago:20300710T100000
DTEND;TZID=America/Chicago:20300710T110000
DTSTAMP:20260419T203424
CREATED:20240301T211552Z
LAST-MODIFIED:20240331T012249Z
UID:10002040-1909908000-1909911600@www.lllmp.org
SUMMARY:Western Plains: Monthly Series Meeting
DESCRIPTION:Please join us for our monthly in-person meetings.
URL:https://www.lllmp.org/event/western-plains-monthly-series-meeting/2030-07-10/
LOCATION:Hays Public Library\, 1205 Main St\, Hays\, KS\, 67601\, United States
CATEGORIES:In-Person,Kansas,Monthly Series Meeting,Western Plains
GEO:38.8717602;-99.2911629
X-APPLE-STRUCTURED-LOCATION;VALUE=URI;X-ADDRESS=Hays Public Library 1205 Main St Hays KS 67601 United States;X-APPLE-RADIUS=500;X-TITLE=1205 Main St:geo:-99.2911629,38.8717602
END:VEVENT
BEGIN:VEVENT
DTSTART;TZID=America/Chicago:20300814T100000
DTEND;TZID=America/Chicago:20300814T110000
DTSTAMP:20260419T203424
CREATED:20240301T211552Z
LAST-MODIFIED:20240331T012249Z
UID:10002041-1912932000-1912935600@www.lllmp.org
SUMMARY:Western Plains: Monthly Series Meeting
DESCRIPTION:Please join us for our monthly in-person meetings.
URL:https://www.lllmp.org/event/western-plains-monthly-series-meeting/2030-08-14/
LOCATION:Hays Public Library\, 1205 Main St\, Hays\, KS\, 67601\, United States
CATEGORIES:In-Person,Kansas,Monthly Series Meeting,Western Plains
GEO:38.8717602;-99.2911629
X-APPLE-STRUCTURED-LOCATION;VALUE=URI;X-ADDRESS=Hays Public Library 1205 Main St Hays KS 67601 United States;X-APPLE-RADIUS=500;X-TITLE=1205 Main St:geo:-99.2911629,38.8717602
END:VEVENT
BEGIN:VEVENT
DTSTART;TZID=America/Chicago:20300911T100000
DTEND;TZID=America/Chicago:20300911T110000
DTSTAMP:20260419T203424
CREATED:20240301T211552Z
LAST-MODIFIED:20240331T012249Z
UID:10002042-1915351200-1915354800@www.lllmp.org
SUMMARY:Western Plains: Monthly Series Meeting
DESCRIPTION:Please join us for our monthly in-person meetings.
URL:https://www.lllmp.org/event/western-plains-monthly-series-meeting/2030-09-11/
LOCATION:Hays Public Library\, 1205 Main St\, Hays\, KS\, 67601\, United States
CATEGORIES:In-Person,Kansas,Monthly Series Meeting,Western Plains
GEO:38.8717602;-99.2911629
X-APPLE-STRUCTURED-LOCATION;VALUE=URI;X-ADDRESS=Hays Public Library 1205 Main St Hays KS 67601 United States;X-APPLE-RADIUS=500;X-TITLE=1205 Main St:geo:-99.2911629,38.8717602
END:VEVENT
BEGIN:VEVENT
DTSTART;TZID=America/Chicago:20301009T100000
DTEND;TZID=America/Chicago:20301009T110000
DTSTAMP:20260419T203424
CREATED:20240301T211552Z
LAST-MODIFIED:20240331T012249Z
UID:10002043-1917770400-1917774000@www.lllmp.org
SUMMARY:Western Plains: Monthly Series Meeting
DESCRIPTION:Please join us for our monthly in-person meetings.
URL:https://www.lllmp.org/event/western-plains-monthly-series-meeting/2030-10-09/
LOCATION:Hays Public Library\, 1205 Main St\, Hays\, KS\, 67601\, United States
CATEGORIES:In-Person,Kansas,Monthly Series Meeting,Western Plains
GEO:38.8717602;-99.2911629
X-APPLE-STRUCTURED-LOCATION;VALUE=URI;X-ADDRESS=Hays Public Library 1205 Main St Hays KS 67601 United States;X-APPLE-RADIUS=500;X-TITLE=1205 Main St:geo:-99.2911629,38.8717602
END:VEVENT
BEGIN:VEVENT
DTSTART;TZID=America/Chicago:20301113T100000
DTEND;TZID=America/Chicago:20301113T110000
DTSTAMP:20260419T203424
CREATED:20240301T211552Z
LAST-MODIFIED:20240331T012249Z
UID:10002044-1920794400-1920798000@www.lllmp.org
SUMMARY:Western Plains: Monthly Series Meeting
DESCRIPTION:Please join us for our monthly in-person meetings.
URL:https://www.lllmp.org/event/western-plains-monthly-series-meeting/2030-11-13/
LOCATION:Hays Public Library\, 1205 Main St\, Hays\, KS\, 67601\, United States
CATEGORIES:In-Person,Kansas,Monthly Series Meeting,Western Plains
GEO:38.8717602;-99.2911629
X-APPLE-STRUCTURED-LOCATION;VALUE=URI;X-ADDRESS=Hays Public Library 1205 Main St Hays KS 67601 United States;X-APPLE-RADIUS=500;X-TITLE=1205 Main St:geo:-99.2911629,38.8717602
END:VEVENT
BEGIN:VEVENT
DTSTART;TZID=America/Chicago:20301211T100000
DTEND;TZID=America/Chicago:20301211T110000
DTSTAMP:20260419T203424
CREATED:20240301T211552Z
LAST-MODIFIED:20240331T012249Z
UID:10002045-1923213600-1923217200@www.lllmp.org
SUMMARY:Western Plains: Monthly Series Meeting
DESCRIPTION:Please join us for our monthly in-person meetings.
URL:https://www.lllmp.org/event/western-plains-monthly-series-meeting/2030-12-11/
LOCATION:Hays Public Library\, 1205 Main St\, Hays\, KS\, 67601\, United States
CATEGORIES:In-Person,Kansas,Monthly Series Meeting,Western Plains
GEO:38.8717602;-99.2911629
X-APPLE-STRUCTURED-LOCATION;VALUE=URI;X-ADDRESS=Hays Public Library 1205 Main St Hays KS 67601 United States;X-APPLE-RADIUS=500;X-TITLE=1205 Main St:geo:-99.2911629,38.8717602
END:VEVENT
BEGIN:VEVENT
DTSTART;TZID=America/Chicago:20310108T100000
DTEND;TZID=America/Chicago:20310108T110000
DTSTAMP:20260419T203424
CREATED:20240301T211552Z
LAST-MODIFIED:20240331T012249Z
UID:10002046-1925632800-1925636400@www.lllmp.org
SUMMARY:Western Plains: Monthly Series Meeting
DESCRIPTION:Please join us for our monthly in-person meetings.
URL:https://www.lllmp.org/event/western-plains-monthly-series-meeting/2031-01-08/
LOCATION:Hays Public Library\, 1205 Main St\, Hays\, KS\, 67601\, United States
CATEGORIES:In-Person,Kansas,Monthly Series Meeting,Western Plains
GEO:38.8717602;-99.2911629
X-APPLE-STRUCTURED-LOCATION;VALUE=URI;X-ADDRESS=Hays Public Library 1205 Main St Hays KS 67601 United States;X-APPLE-RADIUS=500;X-TITLE=1205 Main St:geo:-99.2911629,38.8717602
END:VEVENT
BEGIN:VEVENT
DTSTART;TZID=America/Chicago:20310212T100000
DTEND;TZID=America/Chicago:20310212T110000
DTSTAMP:20260419T203424
CREATED:20240301T211552Z
LAST-MODIFIED:20240331T012249Z
UID:10002243-1928656800-1928660400@www.lllmp.org
SUMMARY:Western Plains: Monthly Series Meeting
DESCRIPTION:Please join us for our monthly in-person meetings.
URL:https://www.lllmp.org/event/western-plains-monthly-series-meeting/2031-02-12/
LOCATION:Hays Public Library\, 1205 Main St\, Hays\, KS\, 67601\, United States
CATEGORIES:In-Person,Kansas,Monthly Series Meeting,Western Plains
GEO:38.8717602;-99.2911629
X-APPLE-STRUCTURED-LOCATION;VALUE=URI;X-ADDRESS=Hays Public Library 1205 Main St Hays KS 67601 United States;X-APPLE-RADIUS=500;X-TITLE=1205 Main St:geo:-99.2911629,38.8717602
END:VEVENT
BEGIN:VEVENT
DTSTART;TZID=America/Chicago:20310312T100000
DTEND;TZID=America/Chicago:20310312T110000
DTSTAMP:20260419T203424
CREATED:20240301T211552Z
LAST-MODIFIED:20240331T012249Z
UID:10002251-1931076000-1931079600@www.lllmp.org
SUMMARY:Western Plains: Monthly Series Meeting
DESCRIPTION:Please join us for our monthly in-person meetings.
URL:https://www.lllmp.org/event/western-plains-monthly-series-meeting/2031-03-12/
LOCATION:Hays Public Library\, 1205 Main St\, Hays\, KS\, 67601\, United States
CATEGORIES:In-Person,Kansas,Monthly Series Meeting,Western Plains
GEO:38.8717602;-99.2911629
X-APPLE-STRUCTURED-LOCATION;VALUE=URI;X-ADDRESS=Hays Public Library 1205 Main St Hays KS 67601 United States;X-APPLE-RADIUS=500;X-TITLE=1205 Main St:geo:-99.2911629,38.8717602
END:VEVENT
BEGIN:VEVENT
DTSTART;TZID=America/Chicago:20310409T100000
DTEND;TZID=America/Chicago:20310409T110000
DTSTAMP:20260419T203424
CREATED:20240301T211552Z
LAST-MODIFIED:20240331T012249Z
UID:10002390-1933495200-1933498800@www.lllmp.org
SUMMARY:Western Plains: Monthly Series Meeting
DESCRIPTION:Please join us for our monthly in-person meetings.
URL:https://www.lllmp.org/event/western-plains-monthly-series-meeting/2031-04-09/
LOCATION:Hays Public Library\, 1205 Main St\, Hays\, KS\, 67601\, United States
CATEGORIES:In-Person,Kansas,Monthly Series Meeting,Western Plains
GEO:38.8717602;-99.2911629
X-APPLE-STRUCTURED-LOCATION;VALUE=URI;X-ADDRESS=Hays Public Library 1205 Main St Hays KS 67601 United States;X-APPLE-RADIUS=500;X-TITLE=1205 Main St:geo:-99.2911629,38.8717602
END:VEVENT
END:VCALENDAR