BEGIN:VCALENDAR
VERSION:2.0
PRODID:-//La Leche League of Mountain Plains - ECPv6.15.20//NONSGML v1.0//EN
CALSCALE:GREGORIAN
METHOD:PUBLISH
X-ORIGINAL-URL:https://www.lllmp.org
X-WR-CALDESC:Events for La Leche League of Mountain Plains
REFRESH-INTERVAL;VALUE=DURATION:PT1H
X-Robots-Tag:noindex
X-PUBLISHED-TTL:PT1H
BEGIN:VTIMEZONE
TZID:America/Chicago
BEGIN:DAYLIGHT
TZOFFSETFROM:-0600
TZOFFSETTO:-0500
TZNAME:CDT
DTSTART:20250309T080000
END:DAYLIGHT
BEGIN:STANDARD
TZOFFSETFROM:-0500
TZOFFSETTO:-0600
TZNAME:CST
DTSTART:20251102T070000
END:STANDARD
BEGIN:DAYLIGHT
TZOFFSETFROM:-0600
TZOFFSETTO:-0500
TZNAME:CDT
DTSTART:20260308T080000
END:DAYLIGHT
BEGIN:STANDARD
TZOFFSETFROM:-0500
TZOFFSETTO:-0600
TZNAME:CST
DTSTART:20261101T070000
END:STANDARD
BEGIN:DAYLIGHT
TZOFFSETFROM:-0600
TZOFFSETTO:-0500
TZNAME:CDT
DTSTART:20270314T080000
END:DAYLIGHT
BEGIN:STANDARD
TZOFFSETFROM:-0500
TZOFFSETTO:-0600
TZNAME:CST
DTSTART:20271107T070000
END:STANDARD
END:VTIMEZONE
BEGIN:VEVENT
DTSTART;TZID=America/Chicago:20260610T100000
DTEND;TZID=America/Chicago:20260610T110000
DTSTAMP:20260419T103657
CREATED:20240301T211552Z
LAST-MODIFIED:20240331T012249Z
UID:10000632-1781085600-1781089200@www.lllmp.org
SUMMARY:Western Plains: Monthly Series Meeting
DESCRIPTION:Please join us for our monthly in-person meetings.
URL:https://www.lllmp.org/event/western-plains-monthly-series-meeting/2026-06-10/
LOCATION:Hays Public Library\, 1205 Main St\, Hays\, KS\, 67601\, United States
CATEGORIES:In-Person,Kansas,Monthly Series Meeting,Western Plains
GEO:38.8717602;-99.2911629
X-APPLE-STRUCTURED-LOCATION;VALUE=URI;X-ADDRESS=Hays Public Library 1205 Main St Hays KS 67601 United States;X-APPLE-RADIUS=500;X-TITLE=1205 Main St:geo:-99.2911629,38.8717602
END:VEVENT
END:VCALENDAR